BEGIN:VCALENDAR
VERSION:2.0
PRODID:-//Exclusive Networks - New Zealand - ECPv4.9.9//NONSGML v1.0//EN
CALSCALE:GREGORIAN
METHOD:PUBLISH
X-WR-CALNAME:Exclusive Networks - New Zealand
X-ORIGINAL-URL:https://www.exclusive-networks.com/nz
X-WR-CALDESC:Events for Exclusive Networks - New Zealand
BEGIN:VTIMEZONE
TZID:UTC
BEGIN:STANDARD
TZOFFSETFROM:+0000
TZOFFSETTO:+0000
TZNAME:UTC
DTSTART:20190101T000000
END:STANDARD
END:VTIMEZONE
BEGIN:VEVENT
DTSTART;TZID=UTC:20191210T090000
DTEND;TZID=UTC:20191211T170000
DTSTAMP:20191220T093538
CREATED:20191101T084545Z
LAST-MODIFIED:20191101T084545Z
UID:10044-1575968400-1576083600@www.exclusive-networks.com
SUMMARY:Fortinet Technical Workshop Wellington – 10th – 11th December
DESCRIPTION:\n\n\n \nExclusive Networks is providing a two day FREE Fortinet Technical Workshop. \nThe workshop provides an introduction to the Fortigate and will cover NGFW\, High Availability\, Web Filtering\, and Virtual Domains. \n\n\n\n\n
URL:https://www.exclusive-networks.com/nz/event/fortinet-technical-workshop-wellington-10th-11th-december/
CATEGORIES:Fortinet Workshops
END:VEVENT
END:VCALENDAR